BEGIN:VCALENDAR
VERSION:2.0
METHOD:PUBLISH
PRODID:-//Agenda.ad//NONSGML v1.0//EN
BEGIN:VEVENT
CLASS:PUBLIC
UID:6893bc616a2b1a0889afa09b5fd3540e@agenda.ad
DTSTAMP:20260424T095720Z
DTSTART:20260424T220000Z
DTEND:20260425T220000Z
SUMMARY:<span lang="FR"><span lang="FR">Taller 'Formaci&oacute; en Autosanaci&oacute; Solaris- Alqu&iacute;mia Interna</span></span><span lang="FR">'&nbsp;</span>
DESCRIPTION:\n\nMés informació\nhttps://www.agenda.ad/activitat/escald
 es-engordany/cursos-i-tallers/taller-formacio-en-autosanacio
 -solaris-alquimia-interna- \n
LOCATION:Hotel Roc Blanc
SEQUENCE:0
TRANSP:OPAQUE
X-ALT-DESC;FMTTYPE=text/html:<!DOCTYPE HTML PUBLIC "-//W3C//DTD HTML 3.2//EN"><HTML><HEAD
 ><TITLE></TITLE></HEAD><BODY><FONT FACE="Arial" SIZE=2><br/>
 <br/><b>Més informació</b><br/><a href="https://www.agenda
 .ad/activitat/escaldes-engordany/cursos-i-tallers/taller-for
 macio-en-autosanacio-solaris-alquimia-interna- ">https://ww
 w.agenda.ad/activitat/escaldes-engordany/cursos-i-tallers/ta
 ller-formacio-en-autosanacio-solaris-alquimia-interna- </a>
 <br/></FONT></BODY></HTML>
END:VEVENT
END:VCALENDAR